BEGIN:VCALENDAR
VERSION:2.0
PRODID:-//wp-events-plugin.com//7.2.3.1//EN
BEGIN:VEVENT
UID:1@bridgnorthcanoe.co.uk
DTSTART:20230402T100000Z
DTEND:20230402T140000Z
DTSTAMP:20230327T143458Z
URL:https://bridgnorthcanoe.co.uk/events/club-paddle/
SUMMARY:Club Paddle
DESCRIPTION:Test
END:VEVENT
END:VCALENDAR